BEGIN:VCALENDAR
VERSION:2.0
PRODID:-//Floridians for Alternatives to the Death Penalty - ECPv6.15.20//NONSGML v1.0//EN
CALSCALE:GREGORIAN
METHOD:PUBLISH
X-WR-CALNAME:Floridians for Alternatives to the Death Penalty
X-ORIGINAL-URL:https://fadp.tallahasseewebdesign.com
X-WR-CALDESC:Events for Floridians for Alternatives to the Death Penalty
REFRESH-INTERVAL;VALUE=DURATION:PT1H
X-Robots-Tag:noindex
X-PUBLISHED-TTL:PT1H
BEGIN:VTIMEZONE
TZID:America/New_York
BEGIN:DAYLIGHT
TZOFFSETFROM:-0500
TZOFFSETTO:-0400
TZNAME:EDT
DTSTART:20250309T070000
END:DAYLIGHT
BEGIN:STANDARD
TZOFFSETFROM:-0400
TZOFFSETTO:-0500
TZNAME:EST
DTSTART:20251102T060000
END:STANDARD
BEGIN:DAYLIGHT
TZOFFSETFROM:-0500
TZOFFSETTO:-0400
TZNAME:EDT
DTSTART:20260308T070000
END:DAYLIGHT
BEGIN:STANDARD
TZOFFSETFROM:-0400
TZOFFSETTO:-0500
TZNAME:EST
DTSTART:20261101T060000
END:STANDARD
BEGIN:DAYLIGHT
TZOFFSETFROM:-0500
TZOFFSETTO:-0400
TZNAME:EDT
DTSTART:20270314T070000
END:DAYLIGHT
BEGIN:STANDARD
TZOFFSETFROM:-0400
TZOFFSETTO:-0500
TZNAME:EST
DTSTART:20271107T060000
END:STANDARD
END:VTIMEZONE
BEGIN:VEVENT
DTSTART;TZID=America/New_York:20260424T080000
DTEND;TZID=America/New_York:20260424T170000
DTSTAMP:20260423T065540
CREATED:20260416T080615Z
LAST-MODIFIED:20260416T080621Z
UID:10000003-1777017600-1777050000@fadp.tallahasseewebdesign.com
SUMMARY:Daytona Beach
DESCRIPTION:Daytona Beach Bus to Prison Vigil\, Diocese of Orlando\nDay of Execution | 1:30 pm \n\n1:30 pm\, Bus to FSP leaves Our Lady of Lourdes Catholic Church\, 201 University Blvd.\, Daytona Beach\, FL 32118\n\n\n\n2:00 p.m.\, Bus pickup at Ormond Beach Walmart\, 1521 W. Granada Blvd\, Ormond Beach\, FL 32174\n\n\n\n\n2:30 pm\, Bus pick up at Winn Dixie\, SR 100 and Old Kings Rd\, Palm Coast\, FL\n\nContact: Our Lady of Lourdes\, 386-255-0433
URL:https://fadp.tallahasseewebdesign.com/event/daytona-beach/
LOCATION:Daytona Beach Bus to Prison Vigil\, Diocese of Orlando\, Daytona Beach Bus to Prison Vigil\, Diocese of Orlando\, FL\, United States
CATEGORIES:Execution Vigils
END:VEVENT
END:VCALENDAR